BEGIN:VCALENDAR
VERSION:2.0
PRODID:-//ChamberMaster//Event Calendar 2.0//EN
METHOD:PUBLISH
X-PUBLISHED-TTL:P3D
REFRESH-INTERVAL:P3D
CALSCALE:GREGORIAN
BEGIN:VEVENT
DTSTART:20100615T223000Z
DTEND:20100616T003000Z
X-MICROSOFT-CDO-ALLDAYEVENT:FALSE
SUMMARY:Yellow Tie Networking Event at The Mail Box Store/Copious Technologies
DESCRIPTION:RSVP@ http://www.yellow-tie.net/events/metroeastil/June2010handshakes \n\n\n\nDrinks & Handshakes Business-Networking After Hours \n\nHosted By: Copious Technologies / The Mail Box Store \n\nDate: 6/15/2010 -- Tuesday\, June 15 \n\nTime: 5:30 to 7:30 p.m. \n\nCost: Free \n\nLocation: The Mail Box Store \n\n1099F Beltline Rd.\, \n\nCollinsville\, IL 62234 \n\n\n\n\n\nQuestions? Contact Joe Knox at 618-623-0266 or Eliot Deters at 618-971-6424. \n\nDescription: \n\nWelcome to the first summer after-hours event. Come meet two of the absolutely-must-know people in the small- to midsized business market. Joe Knox with Copious Technologies and Eliot Deters with The Mail Box Store have offered to host our June event. \n\n\n\nHear why Copious Technologies is the source for all your IT and electronics needs\, and how it beats big-box store pricing! Eliot with The Mail Box Store will share what's really in the Mail Box. If you own a business and want to maximize your efficiency\, you should be aware of his services -- period! \n\n\n\nAlso\, those attending have a chance to win use of a complete outdoor theater system! Happy connecting!
X-ALT-DESC;FMTTYPE=text/html:RSVP@ http://www.yellow-tie.net/events/metroeastil/June2010handshakes \n<br>\n<br>Drinks &amp\; Handshakes Business-Networking After Hours \n<br>Hosted By: Copious Technologies / The Mail Box Store \n<br>Date: 6/15/2010 -- Tuesday\, June 15 \n<br>Time: 5:30 to 7:30 p.m. \n<br>Cost: Free \n<br>Location: The Mail Box Store \n<br>1099F Beltline Rd.\, \n<br>Collinsville\, IL 62234 \n<br>\n<br>\n<br>Questions? Contact Joe Knox at 618-623-0266 or Eliot Deters at 618-971-6424. \n<br>Description: \n<br>Welcome to the first summer after-hours event. Come meet two of the absolutely-must-know people in the small- to midsized business market. Joe Knox with Copious Technologies and Eliot Deters with The Mail Box Store have offered to host our June event. \n<br>\n<br>Hear why Copious Technologies is the source for all your IT and electronics needs\, and how it beats big-box store pricing! Eliot with The Mail Box Store will share what's really in the Mail Box. If you own a business and want to maximize your efficiency\, you should be aware of his services -- period! \n<br>\n<br>Also\, those attending have a chance to win use of a complete outdoor theater system! Happy connecting!
LOCATION:The Mail Box Store - 1099 F Beltline Road\, Collinsville\, IL 62234
UID:e.504.261
SEQUENCE:3
DTSTAMP:20260425T122324Z
URL:http://business.discovercollinsville.com/events/details/yellow-tie-networking-event-at-the-mail-box-store-copious-technologies-06-15-2010-261
END:VEVENT

END:VCALENDAR
