BEGIN:VCALENDAR
VERSION:2.0
PRODID:-//ChamberMaster//Event Calendar 2.0//EN
METHOD:PUBLISH
X-PUBLISHED-TTL:P3D
REFRESH-INTERVAL:P3D
CALSCALE:GREGORIAN
BEGIN:VEVENT
DTSTART:20110319T150000Z
DTEND:20110319T200000Z
X-MICROSOFT-CDO-ALLDAYEVENT:FALSE
SUMMARY:Wash & Wag ~ Dog Wash Fundraiser for Partners 4 Pets Humane Society
DESCRIPTION:Dog Wash Fundraiser for Partners 4 Pets Humane Society!\n\nFor only $15 get your pooch a shampoo and blow dry by friendly P4P volunteers.\n\nEnjoy free snacks and wine tasting while you wait!
X-ALT-DESC;FMTTYPE=text/html:Dog Wash Fundraiser for Partners 4 Pets Humane Society!\n<br>For only $15 get your pooch a shampoo and blow dry by friendly P4P volunteers.\n<br>Enjoy free snacks and wine tasting while you wait!\n<br>
LOCATION:Four Muddy Paws 2127 S State Route 157 Edwardsville\, IL 62025
UID:e.504.352
SEQUENCE:3
DTSTAMP:20260422T200433Z
URL:http://business.discovercollinsville.com/events/details/wash-wag-dog-wash-fundraiser-for-partners-4-pets-humane-society-03-19-2011-352
END:VEVENT

END:VCALENDAR
