BEGIN:VCALENDAR
VERSION:2.0
PRODID:-//ChamberMaster//Event Calendar 2.0//EN
METHOD:PUBLISH
X-PUBLISHED-TTL:P3D
REFRESH-INTERVAL:P3D
CALSCALE:GREGORIAN
BEGIN:VEVENT
DTSTART:20110222T193000Z
DTEND:20110222T210000Z
X-MICROSOFT-CDO-ALLDAYEVENT:FALSE
SUMMARY:Veterans Aid and Attendance Benefits
DESCRIPTION:Join Cedarhurst Assisted Living for a special presentation about benefits that may be available to you.  Enjoy refreshments while hearing from David Seitzer of Project Veteran Aid and Don Brown of McGarvey Brown.
X-ALT-DESC;FMTTYPE=text/html:Join Cedarhurst Assisted Living for a special presentation about benefits that may be available to you.  Enjoy refreshments while hearing from David Seitzer of Project Veteran Aid and Don Brown of McGarvey Brown.
LOCATION:Cearhurst Assisted Living 1207 Vandalia Ave. Collinsville\, IL 62234
UID:e.504.345
SEQUENCE:3
DTSTAMP:20260422T232052Z
URL:http://business.discovercollinsville.com/events/details/veterans-aid-and-attendance-benefits-02-22-2011-345
END:VEVENT

END:VCALENDAR
