BEGIN:VCALENDAR
VERSION:2.0
PRODID:-//ChamberMaster//Event Calendar 2.0//EN
METHOD:PUBLISH
X-PUBLISHED-TTL:P3D
REFRESH-INTERVAL:P3D
CALSCALE:GREGORIAN
BEGIN:VEVENT
DTSTART;VALUE=DATE:20110428
DTEND;VALUE=DATE:20110502
TRANSP:TRANSPARENT
X-MICROSOFT-CDO-ALLDAYEVENT:TRUE
SUMMARY:Verizon Wireless Customer Appreciation Weekend
DESCRIPTION:Verizon WIreless Customer Appreciation weekend from April 28th - May 1st.  Allow us to Thank You for your business by taking advantage of INSTANT REBATES on all 3G smartphones\, Pay-as-you-go specials\, and much more.  Also bring in your home phone bill and a recieve waived activation fee or 25% off accessories.  Appointments available upon request.
X-ALT-DESC;FMTTYPE=text/html:Verizon WIreless Customer Appreciation weekend from April 28th - May 1st.  Allow us to Thank You for your business by taking advantage of INSTANT REBATES on all 3G smartphones\, Pay-as-you-go specials\, and much more.  Also bring in your home phone bill and a recieve waived activation fee or 25% off accessories.  Appointments available upon request.
LOCATION:Verizon Wireless 1108 Collinsville Crossing Blvd\, Collinsville\, IL. 62234. Next to Qdoba and Wal-Mart
UID:e.504.375
SEQUENCE:3
DTSTAMP:20260422T181413Z
URL:http://business.discovercollinsville.com/events/details/verizon-wireless-customer-appreciation-weekend-04-28-2011-375
END:VEVENT

END:VCALENDAR
