BEGIN:VCALENDAR
VERSION:2.0
PRODID:-//ChamberMaster//Event Calendar 2.0//EN
METHOD:PUBLISH
X-PUBLISHED-TTL:P3D
REFRESH-INTERVAL:P3D
CALSCALE:GREGORIAN
BEGIN:VEVENT
DTSTART;VALUE=DATE:20110618
DTEND;VALUE=DATE:20110620
TRANSP:TRANSPARENT
X-MICROSOFT-CDO-ALLDAYEVENT:TRUE
SUMMARY:Verizon Wireless 4 year Anniversary
DESCRIPTION:Celebrate our 4 year Anniversary with us by enjoying food\, live entertainment\, prizes\, and big savings on most 3G smartphones.
X-ALT-DESC;FMTTYPE=text/html:<h3 style="color: red">\n	<span style="font-size: 22px"><span style="font-family: tahoma">Celebrate our 4 year Anniversary with us by enjoying food\, live entertainment\, prizes\, and big savings on most 3G smartphones.&nbsp\; </span></span></h3>\n
LOCATION:1108 Collinsville Crossing Blvd Collinsville\, IL. 62234 (Next to Wal-Mart and Qdoba)
UID:e.504.409
SEQUENCE:3
DTSTAMP:20260422T141341Z
URL:http://business.discovercollinsville.com/events/details/verizon-wireless-4-year-anniversary-06-18-2011-409
END:VEVENT

END:VCALENDAR
