BEGIN:VCALENDAR
VERSION:2.0
PRODID:-//ChamberMaster//Event Calendar 2.0//EN
METHOD:PUBLISH
X-PUBLISHED-TTL:P3D
REFRESH-INTERVAL:P3D
CALSCALE:GREGORIAN
BEGIN:VEVENT
DTSTART:20110608T150000Z
DTEND:20110608T180000Z
X-MICROSOFT-CDO-ALLDAYEVENT:FALSE
SUMMARY:VA Job Fair
DESCRIPTION:
X-ALT-DESC;FMTTYPE=text/html:
LOCATION:American Legion
UID:e.504.370
SEQUENCE:3
DTSTAMP:20260422T142543Z
URL:http://business.discovercollinsville.com/events/details/va-job-fair-06-08-2011-370
END:VEVENT

END:VCALENDAR
