BEGIN:VCALENDAR
VERSION:2.0
PRODID:-//ChamberMaster//Event Calendar 2.0//EN
METHOD:PUBLISH
X-PUBLISHED-TTL:P3D
REFRESH-INTERVAL:P3D
CALSCALE:GREGORIAN
BEGIN:VEVENT
DTSTART:20101031T223000Z
DTEND:20101101T013000Z
X-MICROSOFT-CDO-ALLDAYEVENT:FALSE
SUMMARY:Trunk Or Treat Fall Festival
DESCRIPTION:What?s more fun on Halloween than going door to door? \n\nOne BIG party with candy\, games\, food and MORE! \n\n\n\nYou're Invited to Trunk or Treat! Come and enjoy: \n\n~Children's Games and Activities \n\n~TONS of Candy \n\n~Hot Dogs/Chili/Marshmallow Roast/Hot Apple Cider \n\n~"Minute to Win It" Contest for Teens and Adults \n\nand much more!
X-ALT-DESC;FMTTYPE=text/html:What?s more fun on Halloween than going door to door? \n<br>One BIG party with candy\, games\, food and MORE! \n<br>\n<br>You're Invited to Trunk or Treat! Come and enjoy: \n<br>~Children's Games and Activities \n<br>~TONS of Candy \n<br>~Hot Dogs/Chili/Marshmallow Roast/Hot Apple Cider \n<br>~"Minute to Win It" Contest for Teens and Adults \n<br>and much more!
LOCATION:9500 Collinsville Rd. Collinsville\, IL (Big parking lot across the street from Rural King. Directly behind Jack N the Box)
UID:e.504.309
SEQUENCE:3
DTSTAMP:20260423T044546Z
URL:http://business.discovercollinsville.com/events/details/trunk-or-treat-fall-festival-10-31-2010-309
END:VEVENT

END:VCALENDAR
