BEGIN:VCALENDAR
VERSION:2.0
PRODID:-//ChamberMaster//Event Calendar 2.0//EN
METHOD:PUBLISH
X-PUBLISHED-TTL:P3D
REFRESH-INTERVAL:P3D
CALSCALE:GREGORIAN
BEGIN:VEVENT
DTSTART:20100410T000000Z
DTEND:20100410T020000Z
X-MICROSOFT-CDO-ALLDAYEVENT:FALSE
SUMMARY:Trivia Night 2010
DESCRIPTION:The Collinsville Rotary Club is having its annual trivia night\, so come join in on the fun! There will be prizes for the winners\, a silent auction\, as well as a 50/50 drawing. BYOB and snacks! Hope to see you there!!!
X-ALT-DESC;FMTTYPE=text/html:<div>The Collinsville Rotary Club is having its annual trivia night\, so come join in on the fun! There will be prizes for the winners\,&nbsp\;a silent auction\, as well&nbsp\;as a 50/50 drawing.&nbsp\;BYOB and snacks! Hope to see you there!!!&nbsp\;</div>
LOCATION:St. Lohn Neumann School142 Wilma Dr.Maryville\, IL
UID:e.504.155
SEQUENCE:3
DTSTAMP:20260425T155130Z
URL:http://business.discovercollinsville.com/events/details/trivia-night-2010-04-09-2010-155
END:VEVENT

END:VCALENDAR
