BEGIN:VCALENDAR
VERSION:2.0
PRODID:-//ChamberMaster//Event Calendar 2.0//EN
METHOD:PUBLISH
X-PUBLISHED-TTL:P3D
REFRESH-INTERVAL:P3D
CALSCALE:GREGORIAN
BEGIN:VEVENT
DTSTART:20100523T150000Z
DTEND:20100523T210000Z
X-MICROSOFT-CDO-ALLDAYEVENT:FALSE
SUMMARY:Treasure Chest Craft show
DESCRIPTION:Treasure Chest Craft Show
X-ALT-DESC;FMTTYPE=text/html:<div>Treasure Chest Craft Show</div>
LOCATION:1 Gateway Dr.Collinsville\, IL 62234
UID:e.504.182
SEQUENCE:3
DTSTAMP:20260425T141535Z
URL:http://business.discovercollinsville.com/events/details/treasure-chest-craft-show-05-23-2010-182
END:VEVENT

END:VCALENDAR
