BEGIN:VCALENDAR
VERSION:2.0
PRODID:-//ChamberMaster//Event Calendar 2.0//EN
METHOD:PUBLISH
X-PUBLISHED-TTL:P3D
REFRESH-INTERVAL:P3D
CALSCALE:GREGORIAN
BEGIN:VEVENT
DTSTART:20100812T230000Z
DTEND:20100813T010000Z
X-MICROSOFT-CDO-ALLDAYEVENT:FALSE
SUMMARY:Thursday Night Movie 'Remember Me'
DESCRIPTION:Caitlyn Rund  Robert Pattinson\n\n\n\nRated PG-13\n\n\n\nA romantic drama centered on two new lovers. Tyler whose parents have split in the wake of his brothers suicide and Ally who lives each day to the fullest since witnessing her mother'sw murder.
X-ALT-DESC;FMTTYPE=text/html:Caitlyn Rund  Robert Pattinson\n<br>\n<br>Rated PG-13\n<br>\n<br>A romantic drama centered on two new lovers. Tyler whose parents have split in the wake of his brothers suicide and Ally who lives each day to the fullest since witnessing her mother'sw murder. \n<br>
LOCATION:Collinsville Memorial Library Center 408 West Main\, Collinsville\, IL\, Phone 618-344-1112 Community Room
UID:e.504.279
SEQUENCE:3
DTSTAMP:20260423T095610Z
URL:http://business.discovercollinsville.com/events/details/thursday-night-movie-remember-me-08-12-2010-279
END:VEVENT

END:VCALENDAR
