BEGIN:VCALENDAR
VERSION:2.0
PRODID:-//ChamberMaster//Event Calendar 2.0//EN
METHOD:PUBLISH
X-PUBLISHED-TTL:P3D
REFRESH-INTERVAL:P3D
CALSCALE:GREGORIAN
BEGIN:VEVENT
DTSTART:20100313T000000Z
DTEND:20100313T050000Z
X-MICROSOFT-CDO-ALLDAYEVENT:FALSE
SUMMARY:Texas Hold 'Em Tournament Fundrasier
DESCRIPTION:Ballroom CD Texas Hold 'Em Tournament and Fundraiser for Jennifer Partty Latinette
X-ALT-DESC;FMTTYPE=text/html:<div><strong>Ballroom CD</strong> Texas Hold 'Em Tournament and Fundraiser for Jennifer Partty Latinette</div>
LOCATION:1 Gateway Dr.Collinsville\, IL 62234
UID:e.504.161
SEQUENCE:3
DTSTAMP:20260425T173615Z
URL:http://business.discovercollinsville.com/events/details/texas-hold-em-tournament-fundrasier-03-12-2010-161
END:VEVENT

END:VCALENDAR
