BEGIN:VCALENDAR
VERSION:2.0
PRODID:-//ChamberMaster//Event Calendar 2.0//EN
METHOD:PUBLISH
X-PUBLISHED-TTL:P3D
REFRESH-INTERVAL:P3D
CALSCALE:GREGORIAN
BEGIN:VEVENT
DTSTART;VALUE=DATE:20110317
DTEND;VALUE=DATE:20110319
TRANSP:TRANSPARENT
X-MICROSOFT-CDO-ALLDAYEVENT:TRUE
SUMMARY:Ten Spot Fix ~ $10 Spay or Neuter at Partners 4 Pets Humane Society
DESCRIPTION:Sponsored by OpSpot\, on March 17 and 18 at our clinic.  Each person pays $10.00 \n\nfor a spay/neuter for a dog or cat.   Proof of rabies is required or one will be \n\ngiven for $10.00.  You must call the shelter at 540-PETS (7387) to \n\nmake an appointment and say it is for the Ten Spot.  Appointments are \n\nlimited.  Rescues and shelters are not eligible to use this-just the \n\npublic.  Tell your friends!!
X-ALT-DESC;FMTTYPE=text/html:Sponsored by OpSpot\, on March 17 and 18 at our clinic.  Each person pays $10.00 \n<br>for a spay/neuter for a dog or cat.   Proof of rabies is required or one will be \n<br>given for $10.00.  You must call the shelter at 540-PETS (7387) to \n<br>make an appointment and say it is for the Ten Spot.  Appointments are \n<br>limited.  Rescues and shelters are not eligible to use this-just the \n<br>public.  Tell your friends!!
LOCATION:Partners 4 Pets Humane Society 119 United Drive Collinsville IL 62234
UID:e.504.351
SEQUENCE:3
DTSTAMP:20260422T214234Z
URL:http://business.discovercollinsville.com/events/details/ten-spot-fix-10-spay-or-neuter-at-partners-4-pets-humane-society-03-17-2011-351
END:VEVENT

END:VCALENDAR
