BEGIN:VCALENDAR
VERSION:2.0
PRODID:-//ChamberMaster//Event Calendar 2.0//EN
METHOD:PUBLISH
X-PUBLISHED-TTL:P3D
REFRESH-INTERVAL:P3D
CALSCALE:GREGORIAN
BEGIN:VEVENT
DTSTART:20110206T013000Z
DTEND:20110206T040000Z
X-MICROSOFT-CDO-ALLDAYEVENT:FALSE
SUMMARY:Sunday School Cinema
DESCRIPTION:Good Movie? Bad Movie? Condemned Movie?\n\nCome out for an entertaining evening as Mother Superior critques classic\, popular and new movies.\n\n\n\nProceeds to benefit Family Hospice and Althoff Catholic Performance Arts
X-ALT-DESC;FMTTYPE=text/html:Good Movie? Bad Movie? Condemned Movie?\n<br>Come out for an entertaining evening as Mother Superior critques classic\, popular and new movies.\n<br>\n<br>Proceeds to benefit Family Hospice and Althoff Catholic Performance Arts
LOCATION:Althoff Catholic Heritage Hall\, 5401 West Main St\, Belleville\, IL 62226
UID:e.504.338
SEQUENCE:3
DTSTAMP:20260422T220026Z
URL:http://business.discovercollinsville.com/events/details/sunday-school-cinema-02-05-2011-338
END:VEVENT

END:VCALENDAR
