BEGIN:VCALENDAR
VERSION:2.0
PRODID:-//ChamberMaster//Event Calendar 2.0//EN
METHOD:PUBLISH
X-PUBLISHED-TTL:P3D
REFRESH-INTERVAL:P3D
CALSCALE:GREGORIAN
BEGIN:VEVENT
DTSTART:20110205T013000Z
DTEND:20110205T040000Z
X-MICROSOFT-CDO-ALLDAYEVENT:FALSE
SUMMARY:Sunday School Cinema
DESCRIPTION:Good Movie? Bad Movie? Condemned Movie? Come out for an entertaining evening as Mother Superior critiques classic\, popular and new movies.\n\n\n\nProceeds to benefit Family Hospice & Althoff Catholic Performance Arts
X-ALT-DESC;FMTTYPE=text/html:Good Movie? Bad Movie? Condemned Movie? Come out for an entertaining evening as Mother Superior critiques classic\, popular and new movies.\n<br>\n<br>Proceeds to benefit Family Hospice &amp\; Althoff Catholic Performance Arts
LOCATION:Althoff Catholic Heritage Hall\, 5401 West Main St\, Belleville\, IL 62226
UID:e.504.337
SEQUENCE:3
DTSTAMP:20260422T232154Z
URL:http://business.discovercollinsville.com/events/details/sunday-school-cinema-02-04-2011-337
END:VEVENT

END:VCALENDAR
