BEGIN:VCALENDAR
VERSION:2.0
PRODID:-//ChamberMaster//Event Calendar 2.0//EN
METHOD:PUBLISH
X-PUBLISHED-TTL:P3D
REFRESH-INTERVAL:P3D
CALSCALE:GREGORIAN
BEGIN:VEVENT
DTSTART;VALUE=DATE:20100305
DTEND;VALUE=DATE:20100306
TRANSP:TRANSPARENT
X-MICROSOFT-CDO-ALLDAYEVENT:TRUE
SUMMARY:St.Louis Regional Gun & Knife Show
DESCRIPTION:
X-ALT-DESC;FMTTYPE=text/html:
LOCATION:1 Gateway Dr.Collinsville\, IL 62234
UID:e.504.156
SEQUENCE:3
DTSTAMP:20260425T173846Z
URL:http://business.discovercollinsville.com/events/details/st-louis-regional-gun-knife-show-03-05-2010-156
END:VEVENT

END:VCALENDAR
