BEGIN:VCALENDAR
VERSION:2.0
PRODID:-//ChamberMaster//Event Calendar 2.0//EN
METHOD:PUBLISH
X-PUBLISHED-TTL:P3D
REFRESH-INTERVAL:P3D
CALSCALE:GREGORIAN
BEGIN:VEVENT
DTSTART:20100910T140000Z
DTEND:20100910T180000Z
X-MICROSOFT-CDO-ALLDAYEVENT:FALSE
SUMMARY:St. John Rummage Sale
DESCRIPTION:Rummage Sale to Benefit Homework Help & Hoops after-school tutoring program
X-ALT-DESC;FMTTYPE=text/html:Rummage Sale to Benefit Homework Help & Hoops after-school tutoring program
LOCATION:St. John Church - Faith Hall 307 W. Clay St.
UID:e.504.299
SEQUENCE:3
DTSTAMP:20260423T080620Z
URL:http://business.discovercollinsville.com/events/details/st-john-rummage-sale-09-10-2010-299
END:VEVENT

END:VCALENDAR
