BEGIN:VCALENDAR
VERSION:2.0
PRODID:-//ChamberMaster//Event Calendar 2.0//EN
METHOD:PUBLISH
X-PUBLISHED-TTL:P3D
REFRESH-INTERVAL:P3D
CALSCALE:GREGORIAN
BEGIN:VEVENT
DTSTART:20100909T220000Z
DTEND:20100910T010000Z
X-MICROSOFT-CDO-ALLDAYEVENT:FALSE
SUMMARY:St. John Church Rummage Sale
DESCRIPTION:St. John Church Rummage Sale in Faith Hall\nTo Benefit Homework Help & Hoops After-School Tutoring Program
X-ALT-DESC;FMTTYPE=text/html:St. John Church Rummage Sale in Faith Hall\nTo Benefit Homework Help & Hoops After-School Tutoring Program
LOCATION:St. John Church - Faith Hall 307 W. Clay
UID:e.504.298
SEQUENCE:3
DTSTAMP:20260423T062006Z
URL:http://business.discovercollinsville.com/events/details/st-john-church-rummage-sale-09-09-2010-298
END:VEVENT

END:VCALENDAR
