BEGIN:VCALENDAR
VERSION:2.0
PRODID:-//ChamberMaster//Event Calendar 2.0//EN
METHOD:PUBLISH
X-PUBLISHED-TTL:P3D
REFRESH-INTERVAL:P3D
CALSCALE:GREGORIAN
BEGIN:VEVENT
DTSTART:20100912T143000Z
DTEND:20100912T180000Z
X-MICROSOFT-CDO-ALLDAYEVENT:FALSE
SUMMARY:St. John Church Homecoming & Old Fashioned Potluck Picnic
DESCRIPTION:Worship outside under the big tent located on the Goethe side of the church at 9:30 AM\, followed by an old fashioned potluck picnic lunch.  There will be games for the adults and children alike\, an hymn sing\, good food\, and fellowship!
X-ALT-DESC;FMTTYPE=text/html:Worship outside under the big tent located on the Goethe side of the church at 9:30 AM\, followed by an old fashioned potluck picnic lunch.  There will be games for the adults and children alike\, an hymn sing\, good food\, and fellowship!
LOCATION:307 West. Clay Street
UID:e.504.300
SEQUENCE:3
DTSTAMP:20260423T062018Z
URL:http://business.discovercollinsville.com/events/details/st-john-church-homecoming-old-fashioned-potluck-picnic-09-12-2010-300
END:VEVENT

END:VCALENDAR
