BEGIN:VCALENDAR
VERSION:2.0
PRODID:-//ChamberMaster//Event Calendar 2.0//EN
METHOD:PUBLISH
X-PUBLISHED-TTL:P3D
REFRESH-INTERVAL:P3D
CALSCALE:GREGORIAN
BEGIN:VEVENT
DTSTART:20110409T143000Z
DTEND:20110409T170000Z
X-MICROSOFT-CDO-ALLDAYEVENT:FALSE
SUMMARY:Spring Festival and Egg Hunt
DESCRIPTION:Spring Festival & Egg Hunt with over 5000 eggs!  \n\nEgg Hunt will be held at Relais Bonne Eau\, 7325 Marine Road\, Edwardsville\, IL 62025.  Saturday\, April 4\, 2011.  Festival 9:30-12:00 p.m.\, Registration: 9:30-10:30 a.m.\, Hunt begins at:  10:45 a.m. for kids 1 ? 12 years of age.  Activities include: Easter crafts\, face painting\, and games.  Pictures with the Easter Bunny and activity bracelets for unlimited crafts & games for $5 each.  For more information contact Kathy Wilson at 800-233-1708 or kwilson@hospice.org.
X-ALT-DESC;FMTTYPE=text/html:Spring Festival &amp\; Egg Hunt with over 5000 eggs!  \n<br>Egg Hunt will be held at Relais Bonne Eau\, 7325 Marine Road\, Edwardsville\, IL 62025.  Saturday\, April 4\, 2011.  Festival 9:30-12:00 p.m.\, Registration: 9:30-10:30 a.m.\, Hunt begins at:  10:45 a.m. for kids 1 ? 12 years of age.  Activities include: Easter crafts\, face painting\, and games.  Pictures with the Easter Bunny and activity bracelets for unlimited crafts &amp\; games for $5 each.  For more information contact Kathy Wilson at 800-233-1708 or kwilson@hospice.org.  \n<br>
LOCATION:Relais Bonne Eau\, 7325 Marine Road\, Edwardsville\, IL 62025
UID:e.504.336
SEQUENCE:3
DTSTAMP:20260422T181927Z
URL:http://business.discovercollinsville.com/events/details/spring-festival-and-egg-hunt-04-09-2011-336
END:VEVENT

END:VCALENDAR
