BEGIN:VCALENDAR
VERSION:2.0
PRODID:-//ChamberMaster//Event Calendar 2.0//EN
METHOD:PUBLISH
X-PUBLISHED-TTL:P3D
REFRESH-INTERVAL:P3D
CALSCALE:GREGORIAN
BEGIN:VEVENT
DTSTART:20110220T190000Z
DTEND:20110220T230000Z
X-MICROSOFT-CDO-ALLDAYEVENT:FALSE
SUMMARY:Sports Oldtimer's Reunion
DESCRIPTION:The annual Sports Oldtimers Hospice benefit hosted by Art Voellinger will be at 1 p.m. on Sunday\, Feb. 20\, 2011\, at the Millstadt VFW.  Proceeds of event will benefit Hospice of Southern Illinois\, www.hospice.org.  \n\n\n\nPanel guests include former Major League baseball players: Les Mueller\, Chuck Diering\, Nelson and T.J. Mathews\, and Glenn Brummer\; SW Ill.\, prep football Coach of the Year Jim Stiebel of Mater Dei (Breese)\, and St. Louis U. Hall of Fame athlete Dawn Elser\, principal of Central Grade School\, O'Fallon. \n\n\n\nFor more information contact Art Voellinger at voellinger01@aol.com or 618-234-1383.
X-ALT-DESC;FMTTYPE=text/html:The annual Sports Oldtimers Hospice benefit hosted by Art Voellinger will be at 1 p.m. on Sunday\, Feb. 20\, 2011\, at the Millstadt VFW.  Proceeds of event will benefit Hospice of Southern Illinois\, www.hospice.org.  \n<br>\n<br>Panel guests include former Major League baseball players: Les Mueller\, Chuck Diering\, Nelson and T.J. Mathews\, and Glenn Brummer\; SW Ill.\, prep football Coach of the Year Jim Stiebel of Mater Dei (Breese)\, and St. Louis U. Hall of Fame athlete Dawn Elser\, principal of Central Grade School\, O'Fallon. \n<br>\n<br>For more information contact Art Voellinger at voellinger01@aol.com or 618-234-1383.  \n<br>
LOCATION:Millstadt VFW
UID:e.504.332
SEQUENCE:3
DTSTAMP:20260422T213845Z
URL:http://business.discovercollinsville.com/events/details/sports-oldtimer-s-reunion-02-20-2011-332
END:VEVENT

END:VCALENDAR
