BEGIN:VCALENDAR
VERSION:2.0
PRODID:-//ChamberMaster//Event Calendar 2.0//EN
METHOD:PUBLISH
X-PUBLISHED-TTL:P3D
REFRESH-INTERVAL:P3D
CALSCALE:GREGORIAN
BEGIN:VEVENT
DTSTART;VALUE=DATE:20091008
DTEND;VALUE=DATE:20091101
TRANSP:TRANSPARENT
X-MICROSOFT-CDO-ALLDAYEVENT:TRUE
SUMMARY:Soles4Souls Collection
DESCRIPTION:Bring your shoes - old or new\, any size  - to Ace Physical Therapy\, 607 Vandalia\, the entire month of October for the Soles4Souls project. Ace Physical therapy owners Rich and Marge Saia are participating in the collection in honor of Physical Therapy Month.
X-ALT-DESC;FMTTYPE=text/html:<div>Bring your shoes - old or new\, any size &nbsp\;- to Ace Physical Therapy\, 607 Vandalia\, the entire month of October for the Soles4Souls project. Ace Physical therapy owners Rich and Marge Saia are participating in the collection in honor of Physical Therapy Month.</div>
LOCATION:Shoes will be collected a Ace Physical Therapy\, 607 Vandalia\, Collinsville.
UID:e.504.88
SEQUENCE:3
DTSTAMP:20260426T020004Z
URL:http://business.discovercollinsville.com/events/details/soles4souls-collection-10-08-2009-88
END:VEVENT

END:VCALENDAR
