BEGIN:VCALENDAR
VERSION:2.0
PRODID:-//ChamberMaster//Event Calendar 2.0//EN
METHOD:PUBLISH
X-PUBLISHED-TTL:P3D
REFRESH-INTERVAL:P3D
CALSCALE:GREGORIAN
BEGIN:VEVENT
DTSTART:20101008T233000Z
DTEND:20101009T033000Z
X-MICROSOFT-CDO-ALLDAYEVENT:FALSE
SUMMARY:Smash Bash\, Concert for the Cause
DESCRIPTION:Hospice of Southern Illinois & American Legion Post 199 present SmashBash\, Concert for the Cause on Friday\, October 8\, 2010.  Bring your family & friends to listen to The Smash Band while you enjoy various food items from one of our food vendors\, participate in contests\, bid on silent auction items and take a chance to win one of several prizes.  Doors open at 6 p.m.\, band plays 6:30 p.m. ? 10:30 p.m. \n\n\n\nSmashBash is a free outdoor concert-bring lawn chairs.  In case of inclement weather event will be moved indoors with limited seating.  No outside food or drink ? all must be purchased at event.  \n\nSmash Bash Golf Scramble\, shotgun start at 11:30 a.m. at the Legion\, $75 per person\, $300 per team.  $1000 hole-in-one.  Mulligans & skins.  \n\n\n\nFor more information see smashbashforhospice.com or contact Kathy at 618-235-1703 or kwilson@hospice.org.
X-ALT-DESC;FMTTYPE=text/html:Hospice of Southern Illinois &amp\; American Legion Post 199 present SmashBash\, Concert for the Cause on Friday\, October 8\, 2010.  Bring your family &amp\; friends to listen to The Smash Band while you enjoy various food items from one of our food vendors\, participate in contests\, bid on silent auction items and take a chance to win one of several prizes.  Doors open at 6 p.m.\, band plays 6:30 p.m. ? 10:30 p.m. \n<br>\n<br>SmashBash is a free outdoor concert-bring lawn chairs.  In case of inclement weather event will be moved indoors with limited seating.  No outside food or drink ? all must be purchased at event.  \n<br>Smash Bash Golf Scramble\, shotgun start at 11:30 a.m. at the Legion\, $75 per person\, $300 per team.  $1000 hole-in-one.  Mulligans &amp\; skins.  \n<br>\n<br>For more information see smashbashforhospice.com or contact Kathy at 618-235-1703 or kwilson@hospice.org. \n<br>\n<br>
LOCATION:American Legion\, 58 S. State Rt. 157\, Edwardsville\, IL.
UID:e.504.305
SEQUENCE:3
DTSTAMP:20260423T043335Z
URL:http://business.discovercollinsville.com/events/details/smash-bash-concert-for-the-cause-10-08-2010-305
END:VEVENT

END:VCALENDAR
