BEGIN:VCALENDAR
VERSION:2.0
PRODID:-//ChamberMaster//Event Calendar 2.0//EN
METHOD:PUBLISH
X-PUBLISHED-TTL:P3D
REFRESH-INTERVAL:P3D
CALSCALE:GREGORIAN
BEGIN:VEVENT
DTSTART:20110419T230000Z
DTEND:20110420T013000Z
X-MICROSOFT-CDO-ALLDAYEVENT:FALSE
SUMMARY:SIUE Grant Writing Workshop
DESCRIPTION:The SIUE Alumni Association and the Office of Educational Outreach has assembled a panel of speakers to discuss the basics of the grant writing process.  The panel will share their experience with applying for and awarding various grants and provide useful tips for making your application stand out from the competition.\n\n\n\nIn an unstable economy\, this is an excellent resource for community and non-profit organizations to utilize.
X-ALT-DESC;FMTTYPE=text/html:The SIUE Alumni Association and the Office of Educational Outreach has assembled a panel of speakers to discuss the basics of the grant writing process.  The panel will share their experience with applying for and awarding various grants and provide useful tips for making your application stand out from the competition.\n<br>\n<br>In an unstable economy\, this is an excellent resource for community and non-profit organizations to utilize.
LOCATION:Burger Hall on the Southern Illinois University Edwardsville campus
UID:e.504.373
SEQUENCE:3
DTSTAMP:20260422T181301Z
URL:http://business.discovercollinsville.com/events/details/siue-grant-writing-workshop-04-19-2011-373
END:VEVENT

END:VCALENDAR
