BEGIN:VCALENDAR
VERSION:2.0
PRODID:-//ChamberMaster//Event Calendar 2.0//EN
METHOD:PUBLISH
X-PUBLISHED-TTL:P3D
REFRESH-INTERVAL:P3D
CALSCALE:GREGORIAN
BEGIN:VEVENT
DTSTART;VALUE=DATE:20091027
DTEND;VALUE=DATE:20091028
TRANSP:TRANSPARENT
X-MICROSOFT-CDO-ALLDAYEVENT:TRUE
SUMMARY:Senior Fair
DESCRIPTION:Visit booths\, get a flu shot and have your blood pressure checked. Stay for lunch served at a bargain $5.
X-ALT-DESC;FMTTYPE=text/html:<div>Visit booths\, get a flu shot and have your blood pressure checked. Stay for lunch served at a bargain $5.</div><div>&nbsp\;</div>
LOCATION:Collinsville Senior Center\, 420 E. Main St.
UID:e.504.38
SEQUENCE:3
DTSTAMP:20260426T031950Z
URL:http://business.discovercollinsville.com/events/details/senior-fair-10-27-2009-38
END:VEVENT

END:VCALENDAR
