BEGIN:VCALENDAR
VERSION:2.0
PRODID:-//ChamberMaster//Event Calendar 2.0//EN
METHOD:PUBLISH
X-PUBLISHED-TTL:P3D
REFRESH-INTERVAL:P3D
CALSCALE:GREGORIAN
BEGIN:VEVENT
DTSTART:20110625T140000Z
DTEND:20110625T210000Z
X-MICROSOFT-CDO-ALLDAYEVENT:FALSE
SUMMARY:Schnucks Food Drive
DESCRIPTION:Schnucks food drive
X-ALT-DESC;FMTTYPE=text/html:Schnucks food drive
LOCATION:
UID:e.504.371
SEQUENCE:3
DTSTAMP:20260422T141758Z
URL:http://business.discovercollinsville.com/events/details/schnucks-food-drive-06-25-2011-371
END:VEVENT

END:VCALENDAR
