BEGIN:VCALENDAR
VERSION:2.0
PRODID:-//ChamberMaster//Event Calendar 2.0//EN
METHOD:PUBLISH
X-PUBLISHED-TTL:P3D
REFRESH-INTERVAL:P3D
CALSCALE:GREGORIAN
BEGIN:VEVENT
DTSTART:20100611T163000Z
DTEND:20100611T173000Z
X-MICROSOFT-CDO-ALLDAYEVENT:FALSE
SUMMARY:Ribbon Cutting at Rent To Own
DESCRIPTION:
X-ALT-DESC;FMTTYPE=text/html:
LOCATION:
UID:e.504.191
SEQUENCE:3
DTSTAMP:20260425T123000Z
URL:http://business.discovercollinsville.com/events/details/ribbon-cutting-at-rent-to-own-06-11-2010-191
END:VEVENT

END:VCALENDAR
