BEGIN:VCALENDAR
VERSION:2.0
PRODID:-//ChamberMaster//Event Calendar 2.0//EN
METHOD:PUBLISH
X-PUBLISHED-TTL:P3D
REFRESH-INTERVAL:P3D
CALSCALE:GREGORIAN
BEGIN:VEVENT
DTSTART:20100513T213000Z
DTEND:20100513T223000Z
X-MICROSOFT-CDO-ALLDAYEVENT:FALSE
SUMMARY:Ribbon Cutting at Creating Smiles Dentistry
DESCRIPTION:Come on out and join Dr. Gene Pineda and her new location for Creating smiles family Dentistry.
X-ALT-DESC;FMTTYPE=text/html:<div>Come on out and join Dr. Gene Pineda and her new location for Creating smiles family Dentistry.</div>
LOCATION:101 United Dr.Collinsville\, IL 62234
UID:e.504.185
SEQUENCE:3
DTSTAMP:20260425T155452Z
URL:http://business.discovercollinsville.com/events/details/ribbon-cutting-at-creating-smiles-dentistry-05-13-2010-185
END:VEVENT

END:VCALENDAR
