BEGIN:VCALENDAR
VERSION:2.0
PRODID:-//ChamberMaster//Event Calendar 2.0//EN
METHOD:PUBLISH
X-PUBLISHED-TTL:P3D
REFRESH-INTERVAL:P3D
CALSCALE:GREGORIAN
BEGIN:VEVENT
DTSTART:20091118T220000Z
DTEND:20091118T220000Z
X-MICROSOFT-CDO-ALLDAYEVENT:FALSE
SUMMARY:Ribbon Cutting
DESCRIPTION:Ribbon Cutting at The Mail Box Store.
X-ALT-DESC;FMTTYPE=text/html:<div>Ribbon Cutting at The Mail Box Store.</div>
LOCATION:1099 Beltline Rd.Collinsville\, IL 62234
UID:e.504.116
SEQUENCE:3
DTSTAMP:20260426T002140Z
URL:http://business.discovercollinsville.com/events/details/ribbon-cutting-11-18-2009-116
END:VEVENT

END:VCALENDAR
