BEGIN:VCALENDAR
VERSION:2.0
PRODID:-//ChamberMaster//Event Calendar 2.0//EN
METHOD:PUBLISH
X-PUBLISHED-TTL:P3D
REFRESH-INTERVAL:P3D
CALSCALE:GREGORIAN
BEGIN:VEVENT
DTSTART:20100425T150000Z
DTEND:20100425T220000Z
X-MICROSOFT-CDO-ALLDAYEVENT:FALSE
SUMMARY:Relay for Life Vendor Show
DESCRIPTION:Fundraising event for Relay For Life Collinsville. Vendors will feature handmade items and direct sales companies. Food and refreshments available. 50/50\, silent auction and more!
X-ALT-DESC;FMTTYPE=text/html:Fundraising event for Relay For Life Collinsville. Vendors will feature handmade items and direct sales companies. Food and refreshments available. 50/50\, silent auction and more! 
LOCATION:Caseyville Community Center 909 South Main\, Caseyville\, IL 62232
UID:e.504.184
SEQUENCE:3
DTSTAMP:20260425T155451Z
URL:http://business.discovercollinsville.com/events/details/relay-for-life-vendor-show-04-25-2010-184
END:VEVENT

END:VCALENDAR
