BEGIN:VCALENDAR
VERSION:2.0
PRODID:-//ChamberMaster//Event Calendar 2.0//EN
METHOD:PUBLISH
X-PUBLISHED-TTL:P3D
REFRESH-INTERVAL:P3D
CALSCALE:GREGORIAN
BEGIN:VEVENT
DTSTART;VALUE=DATE:20111130
DTEND;VALUE=DATE:20111201
TRANSP:TRANSPARENT
X-MICROSOFT-CDO-ALLDAYEVENT:TRUE
SUMMARY:Quarter Raffle to Benefit Hartz Second Chance H.S.
DESCRIPTION:Come out and join the FUNdraiser-Quarter Raffle. All proceeds will benefit Hartz Second Chance.\n\n20 plus Vendors\, Unique Holiday Shopping all in the comfort of YOUR HOMETOWN.  Men\, this is just not a ladies event\, this is a perfect place for you to shop for the special someone and/or win some nice items for only quarters..  Ladies\, this is a great gift opportunity too.   There will be door przes\, 50/50 drawing\, Chinese Raffles\,  and Loser prizes..  If you haven't attended a quarter raffle.. the time is NOW... if you have questions\, Please email me at mcbean8897@yahoo.com or check out www.quarteraffle.com for more information\n\non how this works..\n\nSee you there!!!!
X-ALT-DESC;FMTTYPE=text/html:Come out and join the FUNdraiser-Quarter Raffle. All proceeds will benefit Hartz Second Chance.<br />\n20 plus Vendors\, Unique Holiday Shopping all in the comfort of YOUR HOMETOWN.&nbsp\; Men\, this is just not a ladies event\, this is a perfect place for you to shop for the special someone and/or win some nice items for only quarters..&nbsp\; Ladies\, this is a great gift opportunity too.&nbsp\;&nbsp\;&nbsp\;There will be door przes\, 50/50 drawing\, Chinese Raffles\, &nbsp\;and Loser prizes.. &nbsp\;If you haven&#39\;t attended a quarter raffle.. the time is NOW... if you have questions\, Please email me at <a href="mailto:mcbean8897@yahoo.com">mcbean8897@yahoo.com</a> or check out <a href="http://www.quarteraffle.com">www.quarteraffle.com</a> for more information<br />\non how this works..<br />\nSee you there!!!! 
LOCATION:Collinsville VFW
UID:e.504.416
SEQUENCE:3
DTSTAMP:20260422T063917Z
URL:http://business.discovercollinsville.com/events/details/quarter-raffle-to-benefit-hartz-second-chance-h-s-11-30-2011-416
END:VEVENT

END:VCALENDAR
