BEGIN:VCALENDAR
VERSION:2.0
PRODID:-//ChamberMaster//Event Calendar 2.0//EN
METHOD:PUBLISH
X-PUBLISHED-TTL:P3D
REFRESH-INTERVAL:P3D
CALSCALE:GREGORIAN
BEGIN:VEVENT
DTSTART:20110312T010000Z
DTEND:20110312T040000Z
X-MICROSOFT-CDO-ALLDAYEVENT:FALSE
SUMMARY:Quarter Auction Benefit for Partners 4 Pets Humane Society
DESCRIPTION:Friday\, March 11 7:00p.m. to 10:00p.m.  Collinsville Senior Center - 420 E Main St\, Collinsville IL- bring an item from P4P's wish list (www.partners4pets.petfinder.com) and receive a free bidding paddle. proceeds benefit Partners 4 Pets
X-ALT-DESC;FMTTYPE=text/html:Friday\, March 11 7:00p.m. to 10:00p.m.  Collinsville Senior Center - 420 E Main St\, Collinsville IL- bring an item from P4P's wish list (www.partners4pets.petfinder.com) and receive a free bidding paddle. proceeds benefit Partners 4 Pets
LOCATION:Collinsville Senior Center 420 E Main St Collinsville\, IL 62234
UID:e.504.350
SEQUENCE:3
DTSTAMP:20260422T200243Z
URL:http://business.discovercollinsville.com/events/details/quarter-auction-benefit-for-partners-4-pets-humane-society-03-11-2011-350
END:VEVENT

END:VCALENDAR
