BEGIN:VCALENDAR
VERSION:2.0
PRODID:-//ChamberMaster//Event Calendar 2.0//EN
METHOD:PUBLISH
X-PUBLISHED-TTL:P3D
REFRESH-INTERVAL:P3D
CALSCALE:GREGORIAN
BEGIN:VEVENT
DTSTART:20100508T160000Z
DTEND:20100508T190000Z
X-MICROSOFT-CDO-ALLDAYEVENT:FALSE
SUMMARY:Progressive Taste of Collinsville
DESCRIPTION:The Progressive Tasate of Collinsville is a family event that takes you through a tour of restaurants in Collinsivlle. Explore the city as you use your map to find a venue\, then sample that venue's choice dish. Join us for a unique culinary experience that will show your more of what Collinsville has to offer. Participating restaurants include: Spring Garden Restaurant\, Farmers Market (Vandalia)\, Farmers Market (St. Louis Road)\, A&W\, Long John Silvers\, Pizza World\, Oatman House\, Smoke Pit B.B.Q.\, Culvers of Collinsville\, Wal-Mart\, The Red Bar\, Ravanelli's Restaurant\, Papa John's Pizza\, Steak Out Charbroiled Delivery\, Domino's Pizza\, Knights of Columbus\, Renne's Gourmet To To\, Fifth Quarter\, Bert's Chuckwagon\, Wendy's\, Starbuck's\, Ramon's Mexican. Sponsored by Herr Funeral Home\, Beltline Chiropractic\, First National Bank\, Evers Pharmacy\, Home Furniture.
X-ALT-DESC;FMTTYPE=text/html:<div>The Progressive Tasate of Collinsville is a family event that takes you through a tour of restaurants in Collinsivlle. Explore the city as you use your map to find a venue\, then sample that venue's choice dish. Join us for a unique culinary experience that will show your more of what Collinsville has to offer. Participating restaurants include: Spring Garden Restaurant\, Farmers Market (Vandalia)\, Farmers Market (St. Louis Road)\, A&amp\;W\, Long John Silvers\, Pizza World\, Oatman House\, Smoke Pit B.B.Q.\, Culvers of Collinsville\, Wal-Mart\, The Red Bar\, Ravanelli's Restaurant\, Papa John's Pizza\, Steak Out Charbroiled Delivery\, Domino's Pizza\, Knights of Columbus\, Renne's Gourmet To To\, Fifth Quarter\, Bert's Chuckwagon\, Wendy's\, Starbuck's\, Ramon's Mexican. Sponsored by Herr Funeral Home\, Beltline Chiropractic\, First National Bank\, Evers Pharmacy\, Home Furniture.</div>
LOCATION:Tickets can be purchased at Collinsville Christian Academy\, 1203 Vandalia. Gather on the lawynb of 1203 Vandalia for sign-ups and tour maps.
UID:e.504.190
SEQUENCE:3
DTSTAMP:20260425T141825Z
URL:http://business.discovercollinsville.com/events/details/progressive-taste-of-collinsville-05-08-2010-190
END:VEVENT

END:VCALENDAR
