BEGIN:VCALENDAR
VERSION:2.0
PRODID:-//ChamberMaster//Event Calendar 2.0//EN
METHOD:PUBLISH
X-PUBLISHED-TTL:P3D
REFRESH-INTERVAL:P3D
CALSCALE:GREGORIAN
BEGIN:VEVENT
DTSTART:20110507T150000Z
DTEND:20110507T210000Z
X-MICROSOFT-CDO-ALLDAYEVENT:FALSE
SUMMARY:Postal Workers Food Drive
DESCRIPTION:Postal Workers Food Drive
X-ALT-DESC;FMTTYPE=text/html:<p>\n	Postal Workers Food Drive</p>\n
LOCATION:
UID:e.504.369
SEQUENCE:3
DTSTAMP:20260422T161934Z
URL:http://business.discovercollinsville.com/events/details/postal-workers-food-drive-05-07-2011-369
END:VEVENT

END:VCALENDAR
