BEGIN:VCALENDAR
VERSION:2.0
PRODID:-//ChamberMaster//Event Calendar 2.0//EN
METHOD:PUBLISH
X-PUBLISHED-TTL:P3D
REFRESH-INTERVAL:P3D
CALSCALE:GREGORIAN
BEGIN:VEVENT
DTSTART:20110313T030000Z
DTEND:20110313T060000Z
X-MICROSOFT-CDO-ALLDAYEVENT:FALSE
SUMMARY:Pins 4 Pets ~ Bowling Fundraiser for Partners 4 Pets
DESCRIPTION:Pins 4 Pets - Bowling Fundraiser ~ Saturday\, March 12th at 9:00 p.m. at Camelot Bowl in Collinsville!  \n\nAll money raise benefits the Homeless Dogs and Cats of Partners 4 Pets1!! \n\n?nRegister yourself or a team of up to 10 friends\n\n  $12 if you pre-register / $15 at the door\n\n  Shoe rental: $2.50\n\n \n\nAll Proceeds Benefit P4P\n\nBOWLING\, 50/50 RAFFLE AND PRIZES!\n\n \n\nTo Pre-Register:\n\nEmail individual or all team member names to:\n\nPins4Pets@yahoo.com or find us on Facebook¡XPins4Pets
X-ALT-DESC;FMTTYPE=text/html:Pins 4 Pets - Bowling Fundraiser ~ Saturday\, March 12th at 9:00 p.m. at Camelot Bowl in Collinsville!  \n<br>All money raise benefits the Homeless Dogs and Cats of Partners 4 Pets1!! \n<br>?nRegister yourself or a team of up to 10 friends\n<br>  $12 if you pre-register / $15 at the door\n<br>  Shoe rental: $2.50\n<br> \n<br>All Proceeds Benefit P4P\n<br>BOWLING\, 50/50 RAFFLE AND PRIZES!\n<br> \n<br>To Pre-Register:\n<br>Email individual or all team member names to:\n<br>Pins4Pets@yahoo.com or find us on Facebook¡XPins4Pets\n<br>
LOCATION:Camelot Bowl 801 Belt Line Rd ¡P Collinsville\, IL 62234
UID:e.504.349
SEQUENCE:3
DTSTAMP:20260422T213826Z
URL:http://business.discovercollinsville.com/events/details/pins-4-pets-bowling-fundraiser-for-partners-4-pets-03-12-2011-349
END:VEVENT

END:VCALENDAR
