BEGIN:VCALENDAR
VERSION:2.0
PRODID:-//ChamberMaster//Event Calendar 2.0//EN
METHOD:PUBLISH
X-PUBLISHED-TTL:P3D
REFRESH-INTERVAL:P3D
CALSCALE:GREGORIAN
BEGIN:VEVENT
DTSTART:20101217T210000Z
DTEND:20101218T020000Z
X-MICROSOFT-CDO-ALLDAYEVENT:FALSE
SUMMARY:Photos with Santa
DESCRIPTION:Come to Partners 4 Pets Christmas Open House at the Warren Billhartz Animal Shelter and have your child's or pet's photo taken with Santa!  For a $10 donation - Roger Smith of Roger Smith Portrait Gallery will be there taking photos that you can take home with you that night!  Cookies and punch will be served!  And you can meet some of our adoptable dogs and cats! :)
X-ALT-DESC;FMTTYPE=text/html:Come to Partners 4 Pets Christmas Open House at the Warren Billhartz Animal Shelter and have your child's or pet's photo taken with Santa!  For a $10 donation - Roger Smith of Roger Smith Portrait Gallery will be there taking photos that you can take home with you that night!  Cookies and punch will be served!  And you can meet some of our adoptable dogs and cats! :)
LOCATION:119 United Drive Collinsville\, IL 62234
UID:e.504.312
SEQUENCE:3
DTSTAMP:20260423T012049Z
URL:http://business.discovercollinsville.com/events/details/photos-with-santa-12-17-2010-312
END:VEVENT

END:VCALENDAR
