BEGIN:VCALENDAR
VERSION:2.0
PRODID:-//ChamberMaster//Event Calendar 2.0//EN
METHOD:PUBLISH
X-PUBLISHED-TTL:P3D
REFRESH-INTERVAL:P3D
CALSCALE:GREGORIAN
BEGIN:VEVENT
DTSTART:20100313T160000Z
DTEND:20100314T000000Z
X-MICROSOFT-CDO-ALLDAYEVENT:FALSE
SUMMARY:Pegasus Productions Psyhic Fair
DESCRIPTION:Pegusus Productions Psychic Fair
X-ALT-DESC;FMTTYPE=text/html:<div>Pegusus Productions Psychic Fair</div>
LOCATION:1 Gaweay Dr.Collinsville\, IL 62234
UID:e.504.162
SEQUENCE:3
DTSTAMP:20260425T174225Z
URL:http://business.discovercollinsville.com/events/details/pegasus-productions-psyhic-fair-03-13-2010-162
END:VEVENT

END:VCALENDAR
