BEGIN:VCALENDAR
VERSION:2.0
PRODID:-//ChamberMaster//Event Calendar 2.0//EN
METHOD:PUBLISH
X-PUBLISHED-TTL:P3D
REFRESH-INTERVAL:P3D
CALSCALE:GREGORIAN
BEGIN:VEVENT
DTSTART:20100925T150000Z
DTEND:20100925T210000Z
X-MICROSOFT-CDO-ALLDAYEVENT:FALSE
SUMMARY:Partners 4 Pets Grand Opening at the Warren Billhartz Shelter
DESCRIPTION:Partners 4 Pets is proud to be partnering with the City of Collinsville coordinate rescued animal adoptions!  Our new hours are 7 days a week - 11:00 a.m. to 5:00 p.m.  Come out and join us at our Grand Opening!  We'll have food\, music\, 15+ vendors\, and of course you can meet our adoptable dogs and cats!\n\nThis is a pet friendly event!
X-ALT-DESC;FMTTYPE=text/html:Partners 4 Pets is proud to be partnering with the City of Collinsville coordinate rescued animal adoptions!  Our new hours are 7 days a week - 11:00 a.m. to 5:00 p.m.  Come out and join us at our Grand Opening!  We'll have food\, music\, 15+ vendors\, and of course you can meet our adoptable dogs and cats!\n<br>This is a pet friendly event!
LOCATION:Warren Billhartz Animal Shelter\, 119 United Dr\, Collinsville\, IL 62234
UID:e.504.301
SEQUENCE:3
DTSTAMP:20260423T062020Z
URL:http://business.discovercollinsville.com/events/details/partners-4-pets-grand-opening-at-the-warren-billhartz-shelter-09-25-2010-301
END:VEVENT

END:VCALENDAR
