BEGIN:VCALENDAR
VERSION:2.0
PRODID:-//ChamberMaster//Event Calendar 2.0//EN
METHOD:PUBLISH
X-PUBLISHED-TTL:P3D
REFRESH-INTERVAL:P3D
CALSCALE:GREGORIAN
BEGIN:VEVENT
DTSTART:20120519T140000Z
DTEND:20120519T180000Z
X-MICROSOFT-CDO-ALLDAYEVENT:FALSE
SUMMARY:Partners 4 Pets Collars & Cents at FCB Maryville
DESCRIPTION:Come out and meet some adorable adoptable dogs from Partners 4 Pets Humane Center!  Free food provided by FCB Maryville!  Lots of interesting and fun vendors!
X-ALT-DESC;FMTTYPE=text/html:Come out and meet some adorable adoptable dogs from Partners 4 Pets Humane Center!&nbsp\; Free food provided by FCB Maryville!&nbsp\; Lots of interesting and fun vendors!
LOCATION:FBC Maryville Bank - 2729 Maryville Rd Maryville\, IL 62062
UID:e.504.461
SEQUENCE:3
DTSTAMP:20260421T171857Z
URL:http://business.discovercollinsville.com/events/details/partners-4-pets-collars-cents-at-fcb-maryville-05-19-2012-461
END:VEVENT

END:VCALENDAR
