BEGIN:VCALENDAR
VERSION:2.0
PRODID:-//ChamberMaster//Event Calendar 2.0//EN
METHOD:PUBLISH
X-PUBLISHED-TTL:P3D
REFRESH-INTERVAL:P3D
CALSCALE:GREGORIAN
BEGIN:VEVENT
DTSTART:20091118T230000Z
DTEND:20091119T010000Z
X-MICROSOFT-CDO-ALLDAYEVENT:FALSE
SUMMARY:Open House
DESCRIPTION:The Dr. Melbourne and Cleora Grimm Intensive Care Unit at Anderson Hospital.
X-ALT-DESC;FMTTYPE=text/html:<div>The Dr. Melbourne and Cleora Grimm Intensive Care Unit at Anderson Hospital.</div>
LOCATION:2227 VadalabeneMaryville\, IL 62062
UID:e.504.117
SEQUENCE:3
DTSTAMP:20260426T014433Z
URL:http://business.discovercollinsville.com/events/details/open-house-11-18-2009-117
END:VEVENT

END:VCALENDAR
