BEGIN:VCALENDAR
VERSION:2.0
PRODID:-//ChamberMaster//Event Calendar 2.0//EN
METHOD:PUBLISH
X-PUBLISHED-TTL:P3D
REFRESH-INTERVAL:P3D
CALSCALE:GREGORIAN
BEGIN:VEVENT
DTSTART:20091022T220000Z
DTEND:20091023T020000Z
X-MICROSOFT-CDO-ALLDAYEVENT:FALSE
SUMMARY:Oktoberfest Celebration
DESCRIPTION:Celebrate Oktoberfest without leaving town on Oct. 22 from 5 to 9 p.m. at the Outdoor Terrace Doubletree Hotel at 1000 Eastport Plaza Dr. Collinsville Mayor John Miller will tap the first keg of beer in keeping with German tradition. Festivities will include classic Bavarian cuisine - sausage\, rouladen and sauerbraten along with other goodies. Live music by Johnny Chase. All you can eat and drink for just $25 per person. Reservations recommended. Call Aimee Wyatt-Smith at 345-2800 or resp@doubletreecollinsville.com.
X-ALT-DESC;FMTTYPE=text/html:<div>Celebrate Oktoberfest without leaving town&nbsp\;on Oct. 22 from 5 to 9 p.m. at the Outdoor Terrace Doubletree Hotel at 1000 Eastport Plaza Dr. Collinsville Mayor John Miller will tap the first keg of beer in keeping with German tradition. Festivities will include classic Bavarian cuisine - sausage\, rouladen and sauerbraten along with other goodies. Live music by Johnny Chase. All you can eat and drink for just $25 per person. Reservations recommended. Call Aimee Wyatt-Smith at 345-2800 or <a href="mailto:resp@doubletreecollinsville.com">resp@doubletreecollinsville.com</a>.</div>
LOCATION:Outdoor Terrace Doubletree Hotel\, 1000 Eastport Plaza Dr.\, Collinsville
UID:e.504.87
SEQUENCE:3
DTSTAMP:20260426T020038Z
URL:http://business.discovercollinsville.com/events/details/oktoberfest-celebration-10-22-2009-87
END:VEVENT

END:VCALENDAR
