BEGIN:VCALENDAR
VERSION:2.0
PRODID:-//ChamberMaster//Event Calendar 2.0//EN
METHOD:PUBLISH
X-PUBLISHED-TTL:P3D
REFRESH-INTERVAL:P3D
CALSCALE:GREGORIAN
BEGIN:VEVENT
DTSTART:20110317T230000Z
DTEND:20110318T030000Z
X-MICROSOFT-CDO-ALLDAYEVENT:FALSE
SUMMARY:O?Party\, a beer tasting to benefit Hospice of Southern Illinois
DESCRIPTION:We are celebrating St. Patrick?s Day at The Blue Agave with ?O?Party\, a beer tasting to benefit Hospice of Southern Illinois.?   Our guests will celebrate the ?luck o? the Irish? on Thursday\, March 17\, 2011\, from 6-10 pm\, as they sample from the selection of 30 beers that Blue Agave\, 307 East Main Street\, Belleville\, IL\, offers.  The Blue Agave will donate a portion of the evening?s sales to Hospice of Southern Illinois!  For more information contact Kathy at kwilson@hospice.org or 618-235-1703.
X-ALT-DESC;FMTTYPE=text/html:We are celebrating St. Patrick?s Day at The Blue Agave with ?O?Party\, a beer tasting to benefit Hospice of Southern Illinois.?   Our guests will celebrate the ?luck o? the Irish? on Thursday\, March 17\, 2011\, from 6-10 pm\, as they sample from the selection of 30 beers that Blue Agave\, 307 East Main Street\, Belleville\, IL\, offers.  The Blue Agave will donate a portion of the evening?s sales to Hospice of Southern Illinois!  For more information contact Kathy at kwilson@hospice.org or 618-235-1703.  
LOCATION:Blue Agave\, 307 East Main Street\, Belleville\, IL
UID:e.504.340
SEQUENCE:3
DTSTAMP:20260422T200348Z
URL:http://business.discovercollinsville.com/events/details/o-party-a-beer-tasting-to-benefit-hospice-of-southern-illinois-03-17-2011-340
END:VEVENT

END:VCALENDAR
