BEGIN:VCALENDAR
VERSION:2.0
PRODID:-//ChamberMaster//Event Calendar 2.0//EN
METHOD:PUBLISH
X-PUBLISHED-TTL:P3D
REFRESH-INTERVAL:P3D
CALSCALE:GREGORIAN
BEGIN:VEVENT
DTSTART:20091017T233000Z
DTEND:20091018T020000Z
X-MICROSOFT-CDO-ALLDAYEVENT:FALSE
SUMMARY:North American Indian Photography Contest Opening Reception
DESCRIPTION:A select panel of judges will award cash prizes and ribbons for the winning photos\, and attendees will have the opportunity to vote for the coveted People's Choice award while enjoying cheese & wine and a silent auction fundraiser. Exhibition will run through mid-December.
X-ALT-DESC;FMTTYPE=text/html:A select panel of judges will award cash prizes and ribbons for the winning photos\, and attendees will have the opportunity to vote for the coveted People's Choice award while enjoying cheese & wine and a silent auction fundraiser. Exhibition will run through mid-December. 
LOCATION:Cahokia Mounds Interpretive Center
UID:e.504.40
SEQUENCE:3
DTSTAMP:20260426T032353Z
URL:http://business.discovercollinsville.com/events/details/north-american-indian-photography-contest-opening-reception-10-17-2009-40
END:VEVENT

END:VCALENDAR
