BEGIN:VCALENDAR
VERSION:2.0
PRODID:-//ChamberMaster//Event Calendar 2.0//EN
METHOD:PUBLISH
X-PUBLISHED-TTL:P3D
REFRESH-INTERVAL:P3D
CALSCALE:GREGORIAN
BEGIN:VEVENT
DTSTART:20091104T180000Z
DTEND:20091104T190000Z
X-MICROSOFT-CDO-ALLDAYEVENT:FALSE
SUMMARY:Networking Lunch - Sponsered by Pic-a-Place Travel and The Flower Basket
DESCRIPTION:Networking Lunch -Kathleen Pickering and Steve Conner will be on hand to assist you with the planning of your upcoming event and party as well as that perfect getaway! These experts are ready to answer your questions on the dream wedding arrangement and honeymoon location\, as well as fun locations and themes for your Christmas parties and New Year's celerbrations. And let's not forget that The Flower Basket will be having their open house November 21st and 22nd. Visit them at 317 W. Main St.\, and call (618) 344-1117 for further details. Also\, contact Pic-a-Place Travel at (618) 345-2043 or via email at picaplace@sbglobal.net. Winter will be here before you know it\, so get in on some of that fun in the sun\, and make your day a memorable one!
X-ALT-DESC;FMTTYPE=text/html:<div>Networking Lunch -</div><div>Kathleen Pickering and Steve Conner will be on hand to&nbsp\;assist you with the&nbsp\;planning of your upcoming event and party&nbsp\;as well as that perfect getaway! These experts are ready&nbsp\;to answer your questions on the dream wedding arrangement and honeymoon location\, as well as&nbsp\;fun&nbsp\;locations and themes&nbsp\;for your Christmas parties and New Year&rsquo\;s celerbrations.&nbsp\;And let's not forget that The Flower Basket will be having&nbsp\;their open house November 21st and&nbsp\;22nd. Visit them at 317 W. Main St.\, and call (618) 344-1117 for further details. Also\, contact&nbsp\;Pic-a-Place Travel&nbsp\;at (618) 345-2043 or via email at <a href="mailto:picaplace@sbglobal.net">picaplace@sbglobal.net</a>.&nbsp\;Winter will be here before you know it\, so get in on&nbsp\;some of&nbsp\;that fun in the sun\, and make your day a memorable one!&nbsp\;&nbsp\;&nbsp\;</div>
LOCATION:K/C Hall
UID:e.504.33
SEQUENCE:3
DTSTAMP:20260426T002453Z
URL:http://business.discovercollinsville.com/events/details/networking-lunch-sponsered-by-pic-a-place-travel-and-the-flower-basket-11-04-2009-33
END:VEVENT

END:VCALENDAR
