BEGIN:VCALENDAR
VERSION:2.0
PRODID:-//ChamberMaster//Event Calendar 2.0//EN
METHOD:PUBLISH
X-PUBLISHED-TTL:P3D
REFRESH-INTERVAL:P3D
CALSCALE:GREGORIAN
BEGIN:VEVENT
DTSTART:20110914T170000Z
DTEND:20110914T180000Z
X-MICROSOFT-CDO-ALLDAYEVENT:FALSE
SUMMARY:Networking Lunch Sept. '11
DESCRIPTION:TBA
X-ALT-DESC;FMTTYPE=text/html:&nbsp\;TBA
LOCATION:Knights of Columbus Hall\, One Columbus Plaza\, off Illinois 157.
UID:e.504.326
SEQUENCE:3
DTSTAMP:20260422T082344Z
URL:http://business.discovercollinsville.com/events/details/networking-lunch-sept-11-09-14-2011-326
END:VEVENT

END:VCALENDAR
