BEGIN:VCALENDAR
VERSION:2.0
PRODID:-//ChamberMaster//Event Calendar 2.0//EN
METHOD:PUBLISH
X-PUBLISHED-TTL:P3D
REFRESH-INTERVAL:P3D
CALSCALE:GREGORIAN
BEGIN:VEVENT
DTSTART:20100908T170000Z
DTEND:20100908T180000Z
X-MICROSOFT-CDO-ALLDAYEVENT:FALSE
SUMMARY:Networking Lunch Sep 8 Sponnsor TBA
DESCRIPTION:Network with other businesses while enjoying a wonderful array of food and beverages.
X-ALT-DESC;FMTTYPE=text/html:<div>Network with other businesses while enjoying a wonderful array of food and beverages.</div>
LOCATION:Knights of Columbus Hall
UID:e.504.142
SEQUENCE:3
DTSTAMP:20260423T061426Z
URL:http://business.discovercollinsville.com/events/details/networking-lunch-sep-8-sponnsor-tba-09-08-2010-142
END:VEVENT

END:VCALENDAR
