BEGIN:VCALENDAR
VERSION:2.0
PRODID:-//ChamberMaster//Event Calendar 2.0//EN
METHOD:PUBLISH
X-PUBLISHED-TTL:P3D
REFRESH-INTERVAL:P3D
CALSCALE:GREGORIAN
BEGIN:VEVENT
DTSTART:20111012T170000Z
DTEND:20111012T180000Z
X-MICROSOFT-CDO-ALLDAYEVENT:FALSE
SUMMARY:Networking Lunch Oct.'11
DESCRIPTION:Sponsored by TheBank of Edwardsville.
X-ALT-DESC;FMTTYPE=text/html:Sponsored by TheBank of Edwardsville. 
LOCATION:Knights of Columbus Hall\, One Columbus Plaza\, off Illinois 157.
UID:e.504.327
SEQUENCE:3
DTSTAMP:20260422T081401Z
URL:http://business.discovercollinsville.com/events/details/networking-lunch-oct-11-10-12-2011-327
END:VEVENT

END:VCALENDAR
