BEGIN:VCALENDAR
VERSION:2.0
PRODID:-//ChamberMaster//Event Calendar 2.0//EN
METHOD:PUBLISH
X-PUBLISHED-TTL:P3D
REFRESH-INTERVAL:P3D
CALSCALE:GREGORIAN
BEGIN:VEVENT
DTSTART:20101110T180000Z
DTEND:20101110T190000Z
X-MICROSOFT-CDO-ALLDAYEVENT:FALSE
SUMMARY:Networking Lunch Nov 10 Sponsored by Anderson Hospital
DESCRIPTION:Network with other businesses while enjoying a wonderful array of food and beverages.
X-ALT-DESC;FMTTYPE=text/html:<div>Network with other businesses while enjoying a wonderful array of food and beverages.</div>
LOCATION:Knights of Columbus Hall
UID:e.504.148
SEQUENCE:3
DTSTAMP:20260423T024613Z
URL:http://business.discovercollinsville.com/events/details/networking-lunch-nov-10-sponsored-by-anderson-hospital-11-10-2010-148
END:VEVENT

END:VCALENDAR
