BEGIN:VCALENDAR
VERSION:2.0
PRODID:-//ChamberMaster//Event Calendar 2.0//EN
METHOD:PUBLISH
X-PUBLISHED-TTL:P3D
REFRESH-INTERVAL:P3D
CALSCALE:GREGORIAN
BEGIN:VEVENT
DTSTART:20100512T170000Z
DTEND:20100512T180000Z
X-MICROSOFT-CDO-ALLDAYEVENT:FALSE
SUMMARY:Networking Lunch May 12 City of Collinsville
DESCRIPTION:Network with other businesses while enjoying an array of wonderful food and beverages.Networking Lunch sponsored by The City of Collinsville.
X-ALT-DESC;FMTTYPE=text/html:<div>Network with other businesses while enjoying an array of wonderful food and beverages.</div><div>Networking Lunch sponsored by The City of Collinsville.</div>
LOCATION:Knights of Columbus Hall
UID:e.504.130
SEQUENCE:3
DTSTAMP:20260425T141846Z
URL:http://business.discovercollinsville.com/events/details/networking-lunch-may-12-city-of-collinsville-05-12-2010-130
END:VEVENT

END:VCALENDAR
