BEGIN:VCALENDAR
VERSION:2.0
PRODID:-//ChamberMaster//Event Calendar 2.0//EN
METHOD:PUBLISH
X-PUBLISHED-TTL:P3D
REFRESH-INTERVAL:P3D
CALSCALE:GREGORIAN
BEGIN:VEVENT
DTSTART:20100310T180000Z
DTEND:20100310T190000Z
X-MICROSOFT-CDO-ALLDAYEVENT:FALSE
SUMMARY:Networking Lunch Mar 10 Shelter Insurance-Dean Fortner
DESCRIPTION:Network with other businesses while enjoying a wonderful array of food and beverages. Networking Lunch sponsored by Dean Fortner wiht Shelter Insurance
X-ALT-DESC;FMTTYPE=text/html:<div>Network&nbsp\;with other businesses&nbsp\;while&nbsp\;enjoying a&nbsp\;wonderful array of&nbsp\;food and beverages. Networking Lunch sponsored by Dean Fortner wiht Shelter Insurance</div>
LOCATION:Knights of Columbus
UID:e.504.123
SEQUENCE:3
DTSTAMP:20260425T172948Z
URL:http://business.discovercollinsville.com/events/details/networking-lunch-mar-10-shelter-insurance-dean-fortner-03-10-2010-123
END:VEVENT

END:VCALENDAR
