BEGIN:VCALENDAR
VERSION:2.0
PRODID:-//ChamberMaster//Event Calendar 2.0//EN
METHOD:PUBLISH
X-PUBLISHED-TTL:P3D
REFRESH-INTERVAL:P3D
CALSCALE:GREGORIAN
BEGIN:VEVENT
DTSTART:20110713T170000Z
DTEND:20110713T180000Z
X-MICROSOFT-CDO-ALLDAYEVENT:FALSE
SUMMARY:Networking Lunch July '11
DESCRIPTION:Sponsored by Scott Credit Union
X-ALT-DESC;FMTTYPE=text/html:Sponsored by Scott Credit Union&nbsp\;
LOCATION:Knights of Columbus Hall\, One Columbus Plaza\, off Illinois 157.
UID:e.504.324
SEQUENCE:3
DTSTAMP:20260422T122008Z
URL:http://business.discovercollinsville.com/events/details/networking-lunch-july-11-07-13-2011-324
END:VEVENT

END:VCALENDAR
